BEGIN:VCALENDAR
VERSION:2.0
PRODID:-//Gesamtkirchengemeinde Stuttgart-Nordwest - ECPv6.15.20//NONSGML v1.0//EN
CALSCALE:GREGORIAN
METHOD:PUBLISH
X-WR-CALNAME:Gesamtkirchengemeinde Stuttgart-Nordwest
X-ORIGINAL-URL:https://kirche-stuttgart-nordwest.de
X-WR-CALDESC:Veranstaltungen für Gesamtkirchengemeinde Stuttgart-Nordwest
REFRESH-INTERVAL;VALUE=DURATION:PT1H
X-Robots-Tag:noindex
X-PUBLISHED-TTL:PT1H
BEGIN:VTIMEZONE
TZID:Europe/Berlin
BEGIN:DAYLIGHT
TZOFFSETFROM:+0100
TZOFFSETTO:+0200
TZNAME:CEST
DTSTART:20250330T010000
END:DAYLIGHT
BEGIN:STANDARD
TZOFFSETFROM:+0200
TZOFFSETTO:+0100
TZNAME:CET
DTSTART:20251026T010000
END:STANDARD
BEGIN:DAYLIGHT
TZOFFSETFROM:+0100
TZOFFSETTO:+0200
TZNAME:CEST
DTSTART:20260329T010000
END:DAYLIGHT
BEGIN:STANDARD
TZOFFSETFROM:+0200
TZOFFSETTO:+0100
TZNAME:CET
DTSTART:20261025T010000
END:STANDARD
BEGIN:DAYLIGHT
TZOFFSETFROM:+0100
TZOFFSETTO:+0200
TZNAME:CEST
DTSTART:20270328T010000
END:DAYLIGHT
BEGIN:STANDARD
TZOFFSETFROM:+0200
TZOFFSETTO:+0100
TZNAME:CET
DTSTART:20271031T010000
END:STANDARD
END:VTIMEZONE
BEGIN:VEVENT
DTSTART;TZID=Europe/Berlin:20260627T190000
DTEND;TZID=Europe/Berlin:20260627T214500
DTSTAMP:20260421T134236
CREATED:20260107T161240Z
LAST-MODIFIED:20260107T161240Z
UID:23780-1782586800-1782596700@kirche-stuttgart-nordwest.de
SUMMARY:Kultursommer: Duo con Animo
DESCRIPTION:Am Samstag\, den 27. Juni um 19 Uhr erklingt die melodisch facettenreiche Musik des Zusammenspiels von Flöte und Gitarre von Klassik bis Tango durch das Duo con Animo mit Birgit Maier-Dermann und Günther Schwarz.Am Samstag\, den 27. Juni um 19 Uhr erklingt die melodisch facettenreiche Musik des Zusammenspiels von Flöte und Gitarre von Klassik bis Tango durch das Duo con Animo mit Birgit Maier-Dermann und Günther Schwarz.
URL:https://kirche-stuttgart-nordwest.de/event/kultursommer-duo-con-animo/
END:VEVENT
BEGIN:VEVENT
DTSTART;TZID=Europe/Berlin:20260627T190000
DTEND;TZID=Europe/Berlin:20260627T214500
DTSTAMP:20260421T134236
CREATED:20260315T092958Z
LAST-MODIFIED:20260315T092958Z
UID:23798-1782586800-1782596700@kirche-stuttgart-nordwest.de
SUMMARY:Duo con Animo - La Historia del Tango (Kultursommer)
DESCRIPTION:
URL:https://kirche-stuttgart-nordwest.de/event/duo-con-animo-la-historia-del-tango-kultursommer/
END:VEVENT
BEGIN:VEVENT
DTSTART;TZID=Europe/Berlin:20260703T190000
DTEND;TZID=Europe/Berlin:20260703T214500
DTSTAMP:20260421T134236
CREATED:20260107T161625Z
LAST-MODIFIED:20260107T161625Z
UID:23781-1783105200-1783115100@kirche-stuttgart-nordwest.de
SUMMARY:Kultursommer: Paper Moon Swing Combo
DESCRIPTION:Die Paper Moon Swing Combo wird am Freitag\, den 3. Juli um 19 Uhr für uns fröhlich und schwungvoll Swing\, Gipsy\, Jazz\, und Country spielen.
URL:https://kirche-stuttgart-nordwest.de/event/kultursommer-paper-moon-swing-combo/
END:VEVENT
BEGIN:VEVENT
DTSTART;TZID=Europe/Berlin:20260703T190000
DTEND;TZID=Europe/Berlin:20260703T214500
DTSTAMP:20260421T134236
CREATED:20260315T093351Z
LAST-MODIFIED:20260315T093351Z
UID:23799-1783105200-1783115100@kirche-stuttgart-nordwest.de
SUMMARY:Paper Moon Swing Combo - Gute Laune Musik (Kultursommer)
DESCRIPTION:
URL:https://kirche-stuttgart-nordwest.de/event/paper-moon-swing-combo-gute-laune-musik-kultursommer/
END:VEVENT
END:VCALENDAR