BEGIN:VCALENDAR
VERSION:2.0
PRODID:-//Gesamtkirchengemeinde Stuttgart-Nordwest - ECPv6.15.20//NONSGML v1.0//EN
CALSCALE:GREGORIAN
METHOD:PUBLISH
X-WR-CALNAME:Gesamtkirchengemeinde Stuttgart-Nordwest
X-ORIGINAL-URL:https://kirche-stuttgart-nordwest.de
X-WR-CALDESC:Veranstaltungen für Gesamtkirchengemeinde Stuttgart-Nordwest
REFRESH-INTERVAL;VALUE=DURATION:PT1H
X-Robots-Tag:noindex
X-PUBLISHED-TTL:PT1H
BEGIN:VTIMEZONE
TZID:Europe/Berlin
BEGIN:DAYLIGHT
TZOFFSETFROM:+0100
TZOFFSETTO:+0200
TZNAME:CEST
DTSTART:20250330T010000
END:DAYLIGHT
BEGIN:STANDARD
TZOFFSETFROM:+0200
TZOFFSETTO:+0100
TZNAME:CET
DTSTART:20251026T010000
END:STANDARD
BEGIN:DAYLIGHT
TZOFFSETFROM:+0100
TZOFFSETTO:+0200
TZNAME:CEST
DTSTART:20260329T010000
END:DAYLIGHT
BEGIN:STANDARD
TZOFFSETFROM:+0200
TZOFFSETTO:+0100
TZNAME:CET
DTSTART:20261025T010000
END:STANDARD
BEGIN:DAYLIGHT
TZOFFSETFROM:+0100
TZOFFSETTO:+0200
TZNAME:CEST
DTSTART:20270328T010000
END:DAYLIGHT
BEGIN:STANDARD
TZOFFSETFROM:+0200
TZOFFSETTO:+0100
TZNAME:CET
DTSTART:20271031T010000
END:STANDARD
END:VTIMEZONE
BEGIN:VEVENT
DTSTART;TZID=Europe/Berlin:20260427T193000
DTEND;TZID=Europe/Berlin:20260427T210000
DTSTAMP:20260421T133854
CREATED:20260421T073010Z
LAST-MODIFIED:20260421T073010Z
UID:24515-1777318200-1777323600@kirche-stuttgart-nordwest.de
SUMMARY:Kirchengemeinderat St. Josef tagt am 27. April
DESCRIPTION:hiermit laden wir Sie herzlich zur nächsten Sitzung des Kirchengemeinderates St. Josef ein. \nDatum: Montag\, 27. April 2026 \nUhrzeit: 19:30 Uhr \nOrt: Großer Saal GH St. Josef in Gemeindehaus St. Josef\, Oswald-Hesse-Str.74\, \n70469 Stuttgart \n 
URL:https://kirche-stuttgart-nordwest.de/event/kirchengemeinderat-st-josef-tagt-am-27-april/
CATEGORIES:St. Josef
ATTACH;FMTTYPE=image/jpeg:https://kirche-stuttgart-nordwest.de/wp-content/uploads/2018/09/StJosef_Front_1.jpg
END:VEVENT
BEGIN:VEVENT
DTSTART;TZID=Europe/Berlin:20260428T193000
DTEND;TZID=Europe/Berlin:20260428T210000
DTSTAMP:20260421T133854
CREATED:20260315T182219Z
LAST-MODIFIED:20260419T163950Z
UID:23801-1777404600-1777410000@kirche-stuttgart-nordwest.de
SUMMARY:Vortrag Bergpredigt und Islam
DESCRIPTION:Mehr Infos hier Bergpredigt und Islam – Jesusworte in der islamischen Überlieferung am 28.04.26 in St. Theresia – Gesamtkirchengemeinde Stuttgart-Nordwest
URL:https://kirche-stuttgart-nordwest.de/event/vortrag-bergpredigt-und-islam/
LOCATION:Gemeindesaal St. Theresia\, Pirmasenser Str.8\, Stuttgart\, Baden-Württemberg\, 70499\, Deutschland
CATEGORIES:St. Theresia
END:VEVENT
BEGIN:VEVENT
DTSTART;TZID=Europe/Berlin:20260510T090000
DTEND;TZID=Europe/Berlin:20260510T104500
DTSTAMP:20260421T133854
CREATED:20260418T074821Z
LAST-MODIFIED:20260418T074821Z
UID:24474-1778403600-1778409900@kirche-stuttgart-nordwest.de
SUMMARY:Sonntagsfrühstück: Gemeinschaft stärken - was können wir dafür tun?  (mit Mechtild Alber)
DESCRIPTION:Am Sonntag\, dem 10.05.2026 setzen wir unsere Vortrags- und Diskussionsreihe mit Mechtild Alber for zum Thema \nGemeinschaft Stärken – was können wir dafür tun?\n  \nFrühstück gegen Spende. Eintritt frei! 
URL:https://kirche-stuttgart-nordwest.de/event/sonntagsfruehstueck-gemeinschaft-staerken-was-koennen-wir-dafuer-tun-mit-mechtild-alber/
CATEGORIES:St. Josef
ATTACH;FMTTYPE=image/png:https://kirche-stuttgart-nordwest.de/wp-content/uploads/2024/02/Logo-Leben-Teilen-endgueltige-Fassung.png
END:VEVENT
BEGIN:VEVENT
DTSTART;TZID=Europe/Berlin:20260517T183000
DTEND;TZID=Europe/Berlin:20260517T193000
DTSTAMP:20260421T133854
CREATED:20260410T162021Z
LAST-MODIFIED:20260414T181205Z
UID:24425-1779042600-1779046200@kirche-stuttgart-nordwest.de
SUMMARY:GeistZeit Salvator: Feuer & Flamme
DESCRIPTION:Informationen zur Veranstaltung \nInformationen zum Chorprojekt \n 
URL:https://kirche-stuttgart-nordwest.de/event/geistzeit-salvator-feuer-flamme/
LOCATION:Gemeindehaus Salvator\, Giebel
CATEGORIES:Salvator
ATTACH;FMTTYPE=image/png:https://kirche-stuttgart-nordwest.de/wp-content/uploads/2026/04/Bildschirmfoto-2026-04-14-um-20.07.27.png
END:VEVENT
BEGIN:VEVENT
DTSTART;TZID=Europe/Berlin:20260530T140000
DTEND;TZID=Europe/Berlin:20260530T170000
DTSTAMP:20260421T133854
CREATED:20260315T182139Z
LAST-MODIFIED:20260405T170714Z
UID:23800-1780149600-1780160400@kirche-stuttgart-nordwest.de
SUMMARY:Wildkräuterwanderung
DESCRIPTION:
URL:https://kirche-stuttgart-nordwest.de/event/wildkraeuterwanderung/
CATEGORIES:St. Theresia
END:VEVENT
BEGIN:VEVENT
DTSTART;TZID=Europe/Berlin:20260604T093000
DTEND;TZID=Europe/Berlin:20260604T220000
DTSTAMP:20260421T133854
CREATED:20260315T182511Z
LAST-MODIFIED:20260419T165824Z
UID:23803-1780565400-1780610400@kirche-stuttgart-nordwest.de
SUMMARY:Gemeindefest St. Theresia
DESCRIPTION:
URL:https://kirche-stuttgart-nordwest.de/event/gemeindefest-st-theresia/
LOCATION:St. Theresia\, Pirmasenser Str.8\, Stuttgart\, 70499\, Deutschland
CATEGORIES:St. Theresia
END:VEVENT
BEGIN:VEVENT
DTSTART;TZID=Europe/Berlin:20260614T093000
DTEND;TZID=Europe/Berlin:20260614T094500
DTSTAMP:20260421T133854
CREATED:20251002T170223Z
LAST-MODIFIED:20251002T170223Z
UID:23756-1781429400-1781430300@kirche-stuttgart-nordwest.de
SUMMARY:Picknickgottesdienst mit Kindersegnung
DESCRIPTION:
URL:https://kirche-stuttgart-nordwest.de/event/picknickgottesdienst-mit-kindersegnung/
END:VEVENT
BEGIN:VEVENT
DTSTART;TZID=Europe/Berlin:20260617T173000
DTEND;TZID=Europe/Berlin:20260617T190000
DTSTAMP:20260421T133854
CREATED:20260419T164946Z
LAST-MODIFIED:20260419T164946Z
UID:24503-1781717400-1781722800@kirche-stuttgart-nordwest.de
SUMMARY:Moscheebesuch
DESCRIPTION:Weitere Infos hier Moscheebesuch am 17.6.26 – Gesamtkirchengemeinde Stuttgart-Nordwest
URL:https://kirche-stuttgart-nordwest.de/event/moscheebesuch/
LOCATION:St. Theresia\, Pirmasenser Str.8\, Stuttgart\, 70499\, Deutschland
END:VEVENT
BEGIN:VEVENT
DTSTART;TZID=Europe/Berlin:20260619T190000
DTEND;TZID=Europe/Berlin:20260619T214500
DTSTAMP:20260421T133854
CREATED:20260107T160940Z
LAST-MODIFIED:20260107T161258Z
UID:23779-1781895600-1781905500@kirche-stuttgart-nordwest.de
SUMMARY:Kultursommer: Pearl Bretter Trio
DESCRIPTION:Zum Auftakt am Freitag\, den 19. Juni um 19 Uhr werden Sie gefühlvollen und vielseitigen Jazz und Blues mit dem Pearl Bretter Trio erleben.
URL:https://kirche-stuttgart-nordwest.de/event/kultursommer-pearl-bretter-trio/
END:VEVENT
BEGIN:VEVENT
DTSTART;TZID=Europe/Berlin:20260619T190000
DTEND;TZID=Europe/Berlin:20260619T214500
DTSTAMP:20260421T133854
CREATED:20260315T092530Z
LAST-MODIFIED:20260315T092530Z
UID:23797-1781895600-1781905500@kirche-stuttgart-nordwest.de
SUMMARY:Pearl Bretter Trio - Here we go (Kultursommer)
DESCRIPTION:
URL:https://kirche-stuttgart-nordwest.de/event/pearl-bretter-trio-here-we-go-kultursommer/
END:VEVENT
BEGIN:VEVENT
DTSTART;TZID=Europe/Berlin:20260627T190000
DTEND;TZID=Europe/Berlin:20260627T214500
DTSTAMP:20260421T133854
CREATED:20260107T161240Z
LAST-MODIFIED:20260107T161240Z
UID:23780-1782586800-1782596700@kirche-stuttgart-nordwest.de
SUMMARY:Kultursommer: Duo con Animo
DESCRIPTION:Am Samstag\, den 27. Juni um 19 Uhr erklingt die melodisch facettenreiche Musik des Zusammenspiels von Flöte und Gitarre von Klassik bis Tango durch das Duo con Animo mit Birgit Maier-Dermann und Günther Schwarz.Am Samstag\, den 27. Juni um 19 Uhr erklingt die melodisch facettenreiche Musik des Zusammenspiels von Flöte und Gitarre von Klassik bis Tango durch das Duo con Animo mit Birgit Maier-Dermann und Günther Schwarz.
URL:https://kirche-stuttgart-nordwest.de/event/kultursommer-duo-con-animo/
END:VEVENT
BEGIN:VEVENT
DTSTART;TZID=Europe/Berlin:20260627T190000
DTEND;TZID=Europe/Berlin:20260627T214500
DTSTAMP:20260421T133854
CREATED:20260315T092958Z
LAST-MODIFIED:20260315T092958Z
UID:23798-1782586800-1782596700@kirche-stuttgart-nordwest.de
SUMMARY:Duo con Animo - La Historia del Tango (Kultursommer)
DESCRIPTION:
URL:https://kirche-stuttgart-nordwest.de/event/duo-con-animo-la-historia-del-tango-kultursommer/
END:VEVENT
BEGIN:VEVENT
DTSTART;TZID=Europe/Berlin:20260703T190000
DTEND;TZID=Europe/Berlin:20260703T214500
DTSTAMP:20260421T133854
CREATED:20260107T161625Z
LAST-MODIFIED:20260107T161625Z
UID:23781-1783105200-1783115100@kirche-stuttgart-nordwest.de
SUMMARY:Kultursommer: Paper Moon Swing Combo
DESCRIPTION:Die Paper Moon Swing Combo wird am Freitag\, den 3. Juli um 19 Uhr für uns fröhlich und schwungvoll Swing\, Gipsy\, Jazz\, und Country spielen.
URL:https://kirche-stuttgart-nordwest.de/event/kultursommer-paper-moon-swing-combo/
END:VEVENT
BEGIN:VEVENT
DTSTART;TZID=Europe/Berlin:20260703T190000
DTEND;TZID=Europe/Berlin:20260703T214500
DTSTAMP:20260421T133854
CREATED:20260315T093351Z
LAST-MODIFIED:20260315T093351Z
UID:23799-1783105200-1783115100@kirche-stuttgart-nordwest.de
SUMMARY:Paper Moon Swing Combo - Gute Laune Musik (Kultursommer)
DESCRIPTION:
URL:https://kirche-stuttgart-nordwest.de/event/paper-moon-swing-combo-gute-laune-musik-kultursommer/
END:VEVENT
END:VCALENDAR