BEGIN:VCALENDAR
VERSION:2.0
PRODID:-//Gesamtkirchengemeinde Stuttgart-Nordwest - ECPv6.15.20//NONSGML v1.0//EN
CALSCALE:GREGORIAN
METHOD:PUBLISH
X-WR-CALNAME:Gesamtkirchengemeinde Stuttgart-Nordwest
X-ORIGINAL-URL:https://kirche-stuttgart-nordwest.de
X-WR-CALDESC:Veranstaltungen für Gesamtkirchengemeinde Stuttgart-Nordwest
REFRESH-INTERVAL;VALUE=DURATION:PT1H
X-Robots-Tag:noindex
X-PUBLISHED-TTL:PT1H
BEGIN:VTIMEZONE
TZID:Europe/Berlin
BEGIN:DAYLIGHT
TZOFFSETFROM:+0100
TZOFFSETTO:+0200
TZNAME:CEST
DTSTART:20240331T010000
END:DAYLIGHT
BEGIN:STANDARD
TZOFFSETFROM:+0200
TZOFFSETTO:+0100
TZNAME:CET
DTSTART:20241027T010000
END:STANDARD
BEGIN:DAYLIGHT
TZOFFSETFROM:+0100
TZOFFSETTO:+0200
TZNAME:CEST
DTSTART:20250330T010000
END:DAYLIGHT
BEGIN:STANDARD
TZOFFSETFROM:+0200
TZOFFSETTO:+0100
TZNAME:CET
DTSTART:20251026T010000
END:STANDARD
BEGIN:DAYLIGHT
TZOFFSETFROM:+0100
TZOFFSETTO:+0200
TZNAME:CEST
DTSTART:20260329T010000
END:DAYLIGHT
BEGIN:STANDARD
TZOFFSETFROM:+0200
TZOFFSETTO:+0100
TZNAME:CET
DTSTART:20261025T010000
END:STANDARD
BEGIN:DAYLIGHT
TZOFFSETFROM:+0100
TZOFFSETTO:+0200
TZNAME:CEST
DTSTART:20270328T010000
END:DAYLIGHT
BEGIN:STANDARD
TZOFFSETFROM:+0200
TZOFFSETTO:+0100
TZNAME:CET
DTSTART:20271031T010000
END:STANDARD
END:VTIMEZONE
BEGIN:VEVENT
DTSTART;TZID=Europe/Berlin:20260418T120000
DTEND;TZID=Europe/Berlin:20260418T150000
DTSTAMP:20260421T135037
CREATED:20260315T182413Z
LAST-MODIFIED:20260320T165837Z
UID:23802-1776513600-1776524400@kirche-stuttgart-nordwest.de
SUMMARY:LeibUndSeele
DESCRIPTION:
URL:https://kirche-stuttgart-nordwest.de/event/leibundseele-11/
CATEGORIES:St. Theresia
END:VEVENT
BEGIN:VEVENT
DTSTART;TZID=Europe/Berlin:20260412T103000
DTEND;TZID=Europe/Berlin:20260412T130000
DTSTAMP:20260421T135037
CREATED:20260310T201846Z
LAST-MODIFIED:20260410T154306Z
UID:23796-1775989800-1775998800@kirche-stuttgart-nordwest.de
SUMMARY:Fest der Nationen Salvator
DESCRIPTION:Informationen zur Veranstaltung \n 
URL:https://kirche-stuttgart-nordwest.de/event/fest-der-nationen-salvator-3/
CATEGORIES:Salvator
ATTACH;FMTTYPE=image/jpeg:https://kirche-stuttgart-nordwest.de/wp-content/uploads/2021/04/Fest-der-Nationen-Fahnen.jpg
END:VEVENT
BEGIN:VEVENT
DTSTART;TZID=Europe/Berlin:20260403T110000
DTEND;TZID=Europe/Berlin:20260403T111500
DTSTAMP:20260421T135037
CREATED:20251002T170000Z
LAST-MODIFIED:20251002T170000Z
UID:23755-1775214000-1775214900@kirche-stuttgart-nordwest.de
SUMMARY:Kinderkreuzweg Salvator
DESCRIPTION:
URL:https://kirche-stuttgart-nordwest.de/event/kinderkreuzweg-salvator/
END:VEVENT
BEGIN:VEVENT
DTSTART;TZID=Europe/Berlin:20260402T200000
DTEND;TZID=Europe/Berlin:20260402T230000
DTSTAMP:20260421T135037
CREATED:20260304T070435Z
LAST-MODIFIED:20260304T070435Z
UID:23794-1775160000-1775170800@kirche-stuttgart-nordwest.de
SUMMARY:Nachtwanderung für Männer
DESCRIPTION:Treffpunkt: Gründonnerstag\, 2. April 2026 \n20 Uhr Kirche St. Monika\, Kyffhäuser Str. 59\, Feuerbach \nEnde gegen 23 Uhr am Waldheim Lindental
URL:https://kirche-stuttgart-nordwest.de/event/nachtwanderung-fuer-maenner/
END:VEVENT
BEGIN:VEVENT
DTSTART;TZID=Europe/Berlin:20260328T191500
DTEND;TZID=Europe/Berlin:20260328T203000
DTSTAMP:20260421T135037
CREATED:20260320T104828Z
LAST-MODIFIED:20260329T203945Z
UID:23805-1774725300-1774729800@kirche-stuttgart-nordwest.de
SUMMARY:Gemeindeversammlung
DESCRIPTION:Weitere Infos: Ihre Meinung ist gefragt: die Kirchengemeinderäte laden zu Gemeindeversammlungen ein – Gesamtkirchengemeinde Stuttgart-Nordwest
URL:https://kirche-stuttgart-nordwest.de/event/gemeindeversammlung/
CATEGORIES:St. Theresia
END:VEVENT
BEGIN:VEVENT
DTSTART;TZID=Europe/Berlin:20260328T143000
DTEND;TZID=Europe/Berlin:20260328T144500
DTSTAMP:20260421T135037
CREATED:20251002T165824Z
LAST-MODIFIED:20260201T130337Z
UID:23754-1774708200-1774709100@kirche-stuttgart-nordwest.de
SUMMARY:Palmstockbasteln in Salvator
DESCRIPTION:
URL:https://kirche-stuttgart-nordwest.de/event/palmstockbasteln-in-salvator/
END:VEVENT
BEGIN:VEVENT
DTSTART;TZID=Europe/Berlin:20260326T190000
DTEND;TZID=Europe/Berlin:20260326T200000
DTSTAMP:20260421T135037
CREATED:20260204T165753Z
LAST-MODIFIED:20260320T165837Z
UID:23790-1774551600-1774555200@kirche-stuttgart-nordwest.de
SUMMARY:Spätschicht
DESCRIPTION:
URL:https://kirche-stuttgart-nordwest.de/event/spaetschicht/
CATEGORIES:St. Theresia
END:VEVENT
BEGIN:VEVENT
DTSTART;TZID=Europe/Berlin:20260322T180000
DTEND;TZID=Europe/Berlin:20260322T235900
DTSTAMP:20260421T135037
CREATED:20260204T165111Z
LAST-MODIFIED:20260320T171953Z
UID:23785-1774202400-1774223940@kirche-stuttgart-nordwest.de
SUMMARY:Konzert Trisonore
DESCRIPTION:
URL:https://kirche-stuttgart-nordwest.de/event/konzert-trisonore/
LOCATION:St. Theresia\, Pirmasenser Str.8\, Stuttgart\, 70499\, Deutschland
CATEGORIES:St. Theresia
END:VEVENT
BEGIN:VEVENT
DTSTART;TZID=Europe/Berlin:20260322T103000
DTEND;TZID=Europe/Berlin:20260322T130000
DTSTAMP:20260421T135037
CREATED:20260204T165354Z
LAST-MODIFIED:20260204T165430Z
UID:23786-1774175400-1774184400@kirche-stuttgart-nordwest.de
SUMMARY:Osterbasteln für Familien
DESCRIPTION:
URL:https://kirche-stuttgart-nordwest.de/event/osterbasteln-fuer-familien/
END:VEVENT
BEGIN:VEVENT
DTSTART;TZID=Europe/Berlin:20260321T120000
DTEND;TZID=Europe/Berlin:20260321T150000
DTSTAMP:20260421T135037
CREATED:20260204T170010Z
LAST-MODIFIED:20260204T170030Z
UID:23792-1774094400-1774105200@kirche-stuttgart-nordwest.de
SUMMARY:LeibUndSeele
DESCRIPTION:
URL:https://kirche-stuttgart-nordwest.de/event/leibundseele-10/
END:VEVENT
BEGIN:VEVENT
DTSTART;TZID=Europe/Berlin:20260315T183000
DTEND;TZID=Europe/Berlin:20260315T193000
DTSTAMP:20260421T135037
CREATED:20260304T201245Z
LAST-MODIFIED:20260310T200434Z
UID:23795-1773599400-1773603000@kirche-stuttgart-nordwest.de
SUMMARY:Spirit Salvator OASENZEIT
DESCRIPTION:Weitere Informationen zur Oasenzeit \nWeitere Informationen zum Kammerchor und Chor Salvator \n 
URL:https://kirche-stuttgart-nordwest.de/event/spirit-salvator-oasenzeit-2/
END:VEVENT
BEGIN:VEVENT
DTSTART;TZID=Europe/Berlin:20260314T103000
DTEND;TZID=Europe/Berlin:20260314T123000
DTSTAMP:20260421T135037
CREATED:20260204T165713Z
LAST-MODIFIED:20260204T165713Z
UID:23789-1773484200-1773491400@kirche-stuttgart-nordwest.de
SUMMARY:Kinderkleidermarkt
DESCRIPTION:
URL:https://kirche-stuttgart-nordwest.de/event/kinderkleidermarkt/
END:VEVENT
BEGIN:VEVENT
DTSTART;TZID=Europe/Berlin:20260308T104500
DTEND;TZID=Europe/Berlin:20260308T110000
DTSTAMP:20260421T135037
CREATED:20260201T130648Z
LAST-MODIFIED:20260215T111219Z
UID:23784-1772966700-1772967600@kirche-stuttgart-nordwest.de
SUMMARY:Musikalischer Vormittag der Ministranten
DESCRIPTION:Weitere Informationen
URL:https://kirche-stuttgart-nordwest.de/event/musikalischer-vormittag-der-ministranten/
END:VEVENT
BEGIN:VEVENT
DTSTART;TZID=Europe/Berlin:20260307T180000
DTEND;TZID=Europe/Berlin:20260307T210000
DTSTAMP:20260421T135037
CREATED:20260204T165632Z
LAST-MODIFIED:20260204T165638Z
UID:23788-1772906400-1772917200@kirche-stuttgart-nordwest.de
SUMMARY:Begrüßung Pfarrer Heil in St. Theresia
DESCRIPTION:
URL:https://kirche-stuttgart-nordwest.de/event/begruessung-pfarrer-heil-in-st-theresia/
END:VEVENT
BEGIN:VEVENT
DTSTART;TZID=Europe/Berlin:20260228T120000
DTEND;TZID=Europe/Berlin:20260228T150000
DTSTAMP:20260421T135037
CREATED:20260204T165948Z
LAST-MODIFIED:20260204T165948Z
UID:23791-1772280000-1772290800@kirche-stuttgart-nordwest.de
SUMMARY:LeibUndSeele
DESCRIPTION:
URL:https://kirche-stuttgart-nordwest.de/event/leibundseele-9/
END:VEVENT
BEGIN:VEVENT
DTSTART;TZID=Europe/Berlin:20260215T143000
DTEND;TZID=Europe/Berlin:20260215T180000
DTSTAMP:20260421T135037
CREATED:20260104T080123Z
LAST-MODIFIED:20260104T080123Z
UID:23778-1771165800-1771178400@kirche-stuttgart-nordwest.de
SUMMARY:Kinderfasching
DESCRIPTION:Nähere Infos hier Weltallstern Galaxia – Fasching in Theresia – Gesamtkirchengemeinde Stuttgart-Nordwest
URL:https://kirche-stuttgart-nordwest.de/event/kinderfasching-4/
END:VEVENT
BEGIN:VEVENT
DTSTART;TZID=Europe/Berlin:20260214T190000
DTEND;TZID=Europe/Berlin:20260215T010000
DTSTAMP:20260421T135037
CREATED:20260104T075940Z
LAST-MODIFIED:20260104T075940Z
UID:23777-1771095600-1771117200@kirche-stuttgart-nordwest.de
SUMMARY:Gemeindefasching
DESCRIPTION:
URL:https://kirche-stuttgart-nordwest.de/event/gemeindefasching-4/
END:VEVENT
BEGIN:VEVENT
DTSTART;TZID=Europe/Berlin:20260214T142900
DTEND;TZID=Europe/Berlin:20260214T144400
DTSTAMP:20260421T135037
CREATED:20260124T152443Z
LAST-MODIFIED:20260124T154258Z
UID:23783-1771079340-1771080240@kirche-stuttgart-nordwest.de
SUMMARY:Kinderfasching Salvator
DESCRIPTION:Infoflyer
URL:https://kirche-stuttgart-nordwest.de/event/kinderfasching-salvator-3/
END:VEVENT
BEGIN:VEVENT
DTSTART;TZID=Europe/Berlin:20260213T193000
DTEND;TZID=Europe/Berlin:20260214T010000
DTSTAMP:20260421T135037
CREATED:20260104T075854Z
LAST-MODIFIED:20260104T075854Z
UID:23776-1771011000-1771030800@kirche-stuttgart-nordwest.de
SUMMARY:Jugendfasching
DESCRIPTION:Nähere Informationen hier Weltallstern Galaxia – Fasching in Theresia – Gesamtkirchengemeinde Stuttgart-Nordwest
URL:https://kirche-stuttgart-nordwest.de/event/jugendfasching-4/
END:VEVENT
BEGIN:VEVENT
DTSTART;TZID=Europe/Berlin:20260208T183000
DTEND;TZID=Europe/Berlin:20260208T184500
DTSTAMP:20260421T135037
CREATED:20260124T151130Z
LAST-MODIFIED:20260124T151130Z
UID:23782-1770575400-1770576300@kirche-stuttgart-nordwest.de
SUMMARY:Gottesdienst für Liebende
DESCRIPTION:Link zur Informationsseite \n 
URL:https://kirche-stuttgart-nordwest.de/event/gottesdienst-fuer-liebende-2/
END:VEVENT
BEGIN:VEVENT
DTSTART;TZID=Europe/Berlin:20260206T193000
DTEND;TZID=Europe/Berlin:20260206T210000
DTSTAMP:20260421T135037
CREATED:20260204T165458Z
LAST-MODIFIED:20260204T165552Z
UID:23787-1770406200-1770411600@kirche-stuttgart-nordwest.de
SUMMARY:Abraham und seine Brüder - Vortrag
DESCRIPTION:
URL:https://kirche-stuttgart-nordwest.de/event/abraham-und-seine-brueder-vortrag/
END:VEVENT
BEGIN:VEVENT
DTSTART;TZID=Europe/Berlin:20260201T173000
DTEND;TZID=Europe/Berlin:20260201T183000
DTSTAMP:20260421T135037
CREATED:20251121T151608Z
LAST-MODIFIED:20251121T151608Z
UID:23772-1769967000-1769970600@kirche-stuttgart-nordwest.de
SUMMARY:Meditatives Singen
DESCRIPTION:
URL:https://kirche-stuttgart-nordwest.de/event/meditatives-singen/
END:VEVENT
BEGIN:VEVENT
DTSTART;TZID=Europe/Berlin:20260118T180000
DTEND;TZID=Europe/Berlin:20260118T201500
DTSTAMP:20260421T135037
CREATED:20251121T093520Z
LAST-MODIFIED:20251121T093520Z
UID:23769-1768759200-1768767300@kirche-stuttgart-nordwest.de
SUMMARY:Meditative Mitmachtänze
DESCRIPTION:
URL:https://kirche-stuttgart-nordwest.de/event/meditative-mitmachtaenze/
END:VEVENT
BEGIN:VEVENT
DTSTART;TZID=Europe/Berlin:20260110T120000
DTEND;TZID=Europe/Berlin:20260110T150000
DTSTAMP:20260421T135037
CREATED:20251230T082918Z
LAST-MODIFIED:20251230T082918Z
UID:23775-1768046400-1768057200@kirche-stuttgart-nordwest.de
SUMMARY:LeibUndSeele
DESCRIPTION:Weitere Informationen hier: LeibUndSeele in St. Theresia am 10.1. – Gesamtkirchengemeinde Stuttgart-Nordwest
URL:https://kirche-stuttgart-nordwest.de/event/leibundseele-8/
END:VEVENT
BEGIN:VEVENT
DTSTART;TZID=Europe/Berlin:20260110T090000
DTEND;TZID=Europe/Berlin:20260110T150000
DTSTAMP:20260421T135037
CREATED:20251121T151509Z
LAST-MODIFIED:20251121T151509Z
UID:23771-1768035600-1768057200@kirche-stuttgart-nordwest.de
SUMMARY:Christbaumaktion Club St. Theresia
DESCRIPTION:
URL:https://kirche-stuttgart-nordwest.de/event/christbaumaktion-club-st-theresia/
END:VEVENT
BEGIN:VEVENT
DTSTART;TZID=Europe/Berlin:20251224T160000
DTEND;TZID=Europe/Berlin:20251224T161500
DTSTAMP:20260421T135037
CREATED:20251002T171112Z
LAST-MODIFIED:20251002T171112Z
UID:23760-1766592000-1766592900@kirche-stuttgart-nordwest.de
SUMMARY:Krippenspiel der Ministranten Salvator
DESCRIPTION:
URL:https://kirche-stuttgart-nordwest.de/event/krippenspiel-der-ministranten-salvator/
END:VEVENT
BEGIN:VEVENT
DTSTART;TZID=Europe/Berlin:20251223T190000
DTEND;TZID=Europe/Berlin:20251223T200000
DTSTAMP:20260421T135037
CREATED:20251121T151407Z
LAST-MODIFIED:20251121T151407Z
UID:23770-1766516400-1766520000@kirche-stuttgart-nordwest.de
SUMMARY:Waldweihnacht
DESCRIPTION:
URL:https://kirche-stuttgart-nordwest.de/event/waldweihnacht-3/
END:VEVENT
BEGIN:VEVENT
DTSTART;TZID=Europe/Berlin:20251218T190000
DTEND;TZID=Europe/Berlin:20251218T213000
DTSTAMP:20260421T135037
CREATED:20251121T090920Z
LAST-MODIFIED:20251121T090920Z
UID:23768-1766084400-1766093400@kirche-stuttgart-nordwest.de
SUMMARY:Adventssingen mit dem Chor St. Theresia
DESCRIPTION:
URL:https://kirche-stuttgart-nordwest.de/event/adventssingen-mit-dem-chor-st-theresia/
END:VEVENT
BEGIN:VEVENT
DTSTART;TZID=Europe/Berlin:20251214T093000
DTEND;TZID=Europe/Berlin:20251214T094500
DTSTAMP:20260421T135037
CREATED:20251002T170633Z
LAST-MODIFIED:20251002T170633Z
UID:23758-1765704600-1765705500@kirche-stuttgart-nordwest.de
SUMMARY:Familiengottesdienst mit den Salvator Kindergärten
DESCRIPTION:
URL:https://kirche-stuttgart-nordwest.de/event/familiengottesdienst-mit-den-salvator-kindergaerten/
END:VEVENT
BEGIN:VEVENT
DTSTART;TZID=Europe/Berlin:20251213T130000
DTEND;TZID=Europe/Berlin:20251213T131500
DTSTAMP:20260421T135037
CREATED:20251002T170903Z
LAST-MODIFIED:20251122T113008Z
UID:23759-1765630800-1765631700@kirche-stuttgart-nordwest.de
SUMMARY:Ministranten Salvator auf dem Weihnachtsmarkt
DESCRIPTION:
URL:https://kirche-stuttgart-nordwest.de/event/ministranten-salvator-auf-dem-weihnachtsmarkt/
END:VEVENT
END:VCALENDAR