BEGIN:VCALENDAR
VERSION:2.0
PRODID:-//Gesamtkirchengemeinde Stuttgart-Nordwest - ECPv6.15.20//NONSGML v1.0//EN
CALSCALE:GREGORIAN
METHOD:PUBLISH
X-WR-CALNAME:Gesamtkirchengemeinde Stuttgart-Nordwest
X-ORIGINAL-URL:https://kirche-stuttgart-nordwest.de
X-WR-CALDESC:Veranstaltungen für Gesamtkirchengemeinde Stuttgart-Nordwest
REFRESH-INTERVAL;VALUE=DURATION:PT1H
X-Robots-Tag:noindex
X-PUBLISHED-TTL:PT1H
BEGIN:VTIMEZONE
TZID:Europe/Berlin
BEGIN:DAYLIGHT
TZOFFSETFROM:+0100
TZOFFSETTO:+0200
TZNAME:CEST
DTSTART:20240331T010000
END:DAYLIGHT
BEGIN:STANDARD
TZOFFSETFROM:+0200
TZOFFSETTO:+0100
TZNAME:CET
DTSTART:20241027T010000
END:STANDARD
BEGIN:DAYLIGHT
TZOFFSETFROM:+0100
TZOFFSETTO:+0200
TZNAME:CEST
DTSTART:20250330T010000
END:DAYLIGHT
BEGIN:STANDARD
TZOFFSETFROM:+0200
TZOFFSETTO:+0100
TZNAME:CET
DTSTART:20251026T010000
END:STANDARD
BEGIN:DAYLIGHT
TZOFFSETFROM:+0100
TZOFFSETTO:+0200
TZNAME:CEST
DTSTART:20260329T010000
END:DAYLIGHT
BEGIN:STANDARD
TZOFFSETFROM:+0200
TZOFFSETTO:+0100
TZNAME:CET
DTSTART:20261025T010000
END:STANDARD
END:VTIMEZONE
BEGIN:VEVENT
DTSTART;TZID=Europe/Berlin:20251018T200000
DTEND;TZID=Europe/Berlin:20251018T220000
DTSTAMP:20260424T180806
CREATED:20250802T153408Z
LAST-MODIFIED:20250802T153408Z
UID:23744-1760817600-1760824800@kirche-stuttgart-nordwest.de
SUMMARY:Helge Thun live in St. Theresia
DESCRIPTION:Weitere Informationen hier: Olympiasieger im Zehnkampf der Kleinkunst: Helge Thun kommt nach St. Theresia – Gesamtkirchengemeinde Stuttgart-Nordwest
URL:https://kirche-stuttgart-nordwest.de/event/herbst-kinderkleidermarkt-in-sankt-theresia-2/
LOCATION:Baden-Württemberg
END:VEVENT
END:VCALENDAR