BEGIN:VCALENDAR
VERSION:2.0
PRODID:-//Gesamtkirchengemeinde Stuttgart-Nordwest - ECPv6.15.20//NONSGML v1.0//EN
CALSCALE:GREGORIAN
METHOD:PUBLISH
X-WR-CALNAME:Gesamtkirchengemeinde Stuttgart-Nordwest
X-ORIGINAL-URL:https://kirche-stuttgart-nordwest.de
X-WR-CALDESC:Veranstaltungen für Gesamtkirchengemeinde Stuttgart-Nordwest
REFRESH-INTERVAL;VALUE=DURATION:PT1H
X-Robots-Tag:noindex
X-PUBLISHED-TTL:PT1H
BEGIN:VTIMEZONE
TZID:Europe/Berlin
BEGIN:DAYLIGHT
TZOFFSETFROM:+0100
TZOFFSETTO:+0200
TZNAME:CEST
DTSTART:20240331T010000
END:DAYLIGHT
BEGIN:STANDARD
TZOFFSETFROM:+0200
TZOFFSETTO:+0100
TZNAME:CET
DTSTART:20241027T010000
END:STANDARD
BEGIN:DAYLIGHT
TZOFFSETFROM:+0100
TZOFFSETTO:+0200
TZNAME:CEST
DTSTART:20250330T010000
END:DAYLIGHT
BEGIN:STANDARD
TZOFFSETFROM:+0200
TZOFFSETTO:+0100
TZNAME:CET
DTSTART:20251026T010000
END:STANDARD
BEGIN:DAYLIGHT
TZOFFSETFROM:+0100
TZOFFSETTO:+0200
TZNAME:CEST
DTSTART:20260329T010000
END:DAYLIGHT
BEGIN:STANDARD
TZOFFSETFROM:+0200
TZOFFSETTO:+0100
TZNAME:CET
DTSTART:20261025T010000
END:STANDARD
END:VTIMEZONE
BEGIN:VEVENT
DTSTART;TZID=Europe/Berlin:20250525T143000
DTEND;TZID=Europe/Berlin:20250525T163000
DTSTAMP:20260424T134351
CREATED:20250210T102627Z
LAST-MODIFIED:20250210T102627Z
UID:23717-1748183400-1748190600@kirche-stuttgart-nordwest.de
SUMMARY:Historischer Stadtrundgang Feuerbach
DESCRIPTION:Weitere Information 
URL:https://kirche-stuttgart-nordwest.de/event/historischer-stadtrundgang-feuerbach-2/
LOCATION:Baden-Württemberg
END:VEVENT
BEGIN:VEVENT
DTSTART;TZID=Europe/Berlin:20250525T153000
DTEND;TZID=Europe/Berlin:20250525T163000
DTSTAMP:20260424T134351
CREATED:20250210T102143Z
LAST-MODIFIED:20250210T102143Z
UID:23716-1748187000-1748190600@kirche-stuttgart-nordwest.de
SUMMARY:Historischer Stadtrundgang Feuerbach
DESCRIPTION:
URL:https://kirche-stuttgart-nordwest.de/event/historischer-stadtrundgang-feuerbach/
LOCATION:Baden-Württemberg
END:VEVENT
END:VCALENDAR